{"text_format":"1","workbook":"xlsx","n_sheets":3,"sheets":["Liste","Heim","Gast"],"not_rendered":{"charts":0,"images":1,"macros":1,"external_links":0,"defined_names":0,"comments":0,"pivot_tables":0},"unopened":[],"bounds":{"document_bytes":16777216,"sheet_cells":100000,"rows_first":2000,"rows_last":500,"rows_between":2000,"halvings":0,"cell_chars":16384,"cell_head_chars":4096},"cells_cut":0,"cells_raw":0,"read":"whole","date_system":"1900"}

{"sheet":"Liste","index":0,"n_rows":47,"n_cols":8,"rows_kept":47,"cut":false,"hidden":false,"merged":[[47,0,47,7],[44,0,44,7],[41,3,41,4],[22,1,22,5],[11,0,11,7],[40,0,40,1],[38,0,38,1],[27,2,27,7],[16,2,16,7],[38,3,38,7],[40,3,40,7],[46,0,46,7],[1,2,1,7],[18,0,18,1],[29,0,29,1],[33,0,33,5],[16,0,16,1],[27,0,27,1],[9,0,9,7],[7,2,7,7],[6,2,6,7],[5,2,5,7],[3,2,3,7]]}
[]
[null,null,"Markgräfler Sportschützen 1953 e. V."]
[]
[null,null,"Kreis 8 im Südbadischen Sportschützenverband e.V."]
[]
[null,null,"Rundenwettkampfleiter Pistole/Revolver GK"]
[null,null," Heinrich Schulte   Teichmattenweg 19   79539 Lörrach"]
[null,null,"Tel.: 07621 579546   Mob.: 01522 7465210   E-Mail: heinrich.schulte@mssk.de"]
[]
["Ergebnisliste für Rundenwettkämpfe Pistole/Revolver Großkaliber"]
[]
["Wettkämpfe werden gemäß der Sportordnung des DSB und der Rundenwettkampfordnung des MSSK durchgeführt"]
[]
[null,null,"Klasse:",{"$f":"Heim!D10","v":"00:00:00"},"Wettkampf:",{"$f":"Heim!A10","v":0},{"$f":"Heim!E10","v":"Endtermin: "},{"$f":"Heim!F10","v":"00:00:00"}]
[null,"Kreisklasse:",{"$f":"Heim!#REF!","v":{"$error":"#REF!"}}]
[]
["Heimmannschaft:",null,{"$f":"Heim!C8","v":0}]
[]
["Schütze/Schützin:",null,"150 Sek P1","150 Sek P2","20 Sek D1","20 Sek D2","Gesamt-\nergebnis","vorge-schossen"]
["1.",{"$f":"Heim!B2","v":0},{"$f":"Heim!C2","v":0},{"$f":"Heim!D2","v":0},{"$f":"Heim!E2","v":0},{"$f":"Heim!F2","v":0},{"$f":"Heim!G2","v":0},{"$f":"Heim!H2","v":0}]
["2.",{"$f":"Heim!B3","v":0},{"$f":"Heim!C3","v":0},{"$f":"Heim!D3","v":0},{"$f":"Heim!E3","v":0},{"$f":"Heim!F3","v":0},{"$f":"Heim!G3","v":0},{"$f":"Heim!H3","v":0}]
["3.",{"$f":"Heim!B4","v":0},{"$f":"Heim!C4","v":0},{"$f":"Heim!D4","v":0},{"$f":"Heim!E4","v":0},{"$f":"Heim!F4","v":0},{"$f":"Heim!G4","v":0},{"$f":"Heim!H4","v":0}]
[null,"Gesamtergebnis der drei besten Schütz*innen:",null,null,null,null,{"$f":"SUM(G20:G22)","v":0}]
[]
["4.",{"$f":"Heim!B5","v":0},{"$f":"Heim!C5","v":0},{"$f":"Heim!D5","v":0},{"$f":"Heim!E5","v":0},{"$f":"Heim!F5","v":0},{"$f":"Heim!G5","v":0},{"$f":"Heim!H5","v":0}]
["5.",{"$f":"Heim!B6","v":0},{"$f":"Heim!C6","v":0},{"$f":"Heim!D6","v":0},{"$f":"Heim!E6","v":0},{"$f":"Heim!F6","v":0},{"$f":"Heim!G6","v":0},{"$f":"Heim!H6","v":0}]
[]
["Gastmannschaft:",null,{"$f":"Gast!C8","v":0}]
[]
["Schütze/Schützin:",null,"150 Sek P1","150 Sek P2","20 Sek D1","20 Sek D2","Gesamt-\nergebnis","vorge-schossen"]
["1.",{"$f":"Gast!B2","v":0},{"$f":"Gast!C2","v":0},{"$f":"Gast!D2","v":0},{"$f":"Gast!E2","v":0},{"$f":"Gast!F2","v":0},{"$f":"Gast!G2","v":0},{"$f":"Gast!H2","v":0}]
["2.",{"$f":"Gast!B3","v":0},{"$f":"Gast!C3","v":0},{"$f":"Gast!D3","v":0},{"$f":"Gast!E3","v":0},{"$f":"Gast!F3","v":0},{"$f":"Gast!G3","v":0},{"$f":"Gast!H3","v":0}]
["3.",{"$f":"Gast!B4","v":0},{"$f":"Gast!C4","v":0},{"$f":"Gast!D4","v":0},{"$f":"Gast!E4","v":0},{"$f":"Gast!F4","v":0},{"$f":"Gast!G4","v":0},{"$f":"Gast!H4","v":0}]
["Gesamtergebnis der drei besten Schütz*innen:",null,null,null,null,null,{"$f":"SUM(G31:G33)","v":0}]
[]
["4.",{"$f":"Gast!B5","v":0},{"$f":"Gast!C5","v":0},{"$f":"Gast!D5","v":0},{"$f":"Gast!E5","v":0},{"$f":"Gast!F5","v":0},{"$f":"Gast!G5","v":0},{"$f":"Gast!H5","v":0}]
["5.",{"$f":"Gast!B6","v":0},{"$f":"Gast!C6","v":0},{"$f":"Gast!D6","v":0},{"$f":"Gast!E6","v":0},{"$f":"Gast!F6","v":0},{"$f":"Gast!G6","v":0},{"$f":"Gast!H6","v":0}]
[]
["Datum des Wettkampftages:",null,null,"Unterschriften Mannschaftsführer*innen:"]
[]
[{"$f":"Heim!H10","v":"2024-03-12"}]
[null,null,null,"     Heimmannschaft",null,null,"Gastmannschaft     "]
[]
[]
["Vorgeschossene Ergebnisse sind mit \"X\" in der entsprechenden Spalte zu markieren."]
[]
["Die Ergebnisliste muss dem RWK-Leiter spätestens am dritten Kalendertag nach dem Endtermin vorliegen."]

{"sheet":"Heim","index":1,"n_rows":14,"n_cols":8,"rows_kept":14,"cut":false,"hidden":false,"merged":[[15,3,15,7],[13,0,13,7],[7,2,7,5],[11,0,11,7]]}
[null,"Vorname / Name","150 Sek P1","150 Sek P2","20 Sek D1","20 Sek D2","Total","vorge-schossen"]
["1.",null,null,null,null,null,{"$f":"SUM(C2:F2)","v":0}]
["2.",null,null,null,null,null,{"$f":"SUM(C3:F3)","v":0}]
["3.",null,null,null,null,null,{"$f":"SUM(C4:F4)","v":0}]
["4.",null,null,null,null,null,{"$f":"SUM(C5:F5)","v":0}]
["5.",null,null,null,null,null,{"$f":"SUM(C6:F6)","v":0}]
[]
[null,"Heim:"]
[]
[null,"Wettkampf","Klasse (A/B):",null,"Endtermin: ",null,"Datum:",{"$f":"TODAY()","v":"2024-03-12"}]
[]
["Achtung, Eingabe nur in den grün markierten Feldern!"]
[]
["Vorgeschossene Ergebnisse sind mit \"X\" in der entsprechenden Spalte zu markieren."]

{"sheet":"Gast","index":2,"n_rows":12,"n_cols":8,"rows_kept":12,"cut":false,"hidden":false,"merged":[[11,0,11,7],[7,2,7,5],[9,0,9,7]]}
[null,"Vorname / Name","150 Sek P1","150 Sek P2","20 Sek D1","20 Sek D2","Total","vorge-schossen"]
["1.",null,null,null,null,null,{"$f":"SUM(C2:F2)","v":0}]
["2.",null,null,null,null,null,{"$f":"SUM(C3:F3)","v":0}]
["3.",null,null,null,null,null,{"$f":"SUM(C4:F4)","v":0}]
["4.",null,null,null,null,null,{"$f":"SUM(C5:F5)","v":0}]
["5.",null,null,null,null,null,{"$f":"SUM(C6:F6)","v":0}]
[]
[null,"Gast:"]
[]
["Achtung, Eingabe nur in den grün markierten Feldern!"]
[]
["Vorgeschossene Ergebnisse sind mit \"X\" in der entsprechenden Spalte zu markieren."]